BEGIN:VCALENDAR
VERSION:2.0
PRODID:-//Tukios.com/
BEGIN:VEVENT
UID:eca289a6-ed59-4cc9-b976-5dfa3c264cca@www.fitzgeraldfh.com
DTSTAMP:20260421T172208Z
DTSTART:20260424T150000Z
DTEND:20260424T160000Z
SUMMARY:Visitation
DESCRIPTION:
URL:https://www.fitzgeraldfh.com/obituaries/alex-poka-malenchik
LOCATION:Fitzgerald Funeral Home & Crematory 1860 South Mulford Road  
	Rockford IL 61108
GEO:42.2475284;-88.9984363
END:VEVENT
END:VCALENDAR