BEGIN:VCALENDAR
VERSION:2.0
PRODID:-//Tukios.com/
BEGIN:VEVENT
UID:76288e88-f8dc-4409-8abe-57a89f7c6deb@www.fitzgeraldfh.com
DTSTAMP:20260421T172546Z
DTSTART:20260424T160000Z
DTEND:20260424T170000Z
SUMMARY:Funeral Service
DESCRIPTION:
URL:https://www.fitzgeraldfh.com/obituaries/alex-poka-malenchik
LOCATION:Fitzgerald Funeral Home & Crematory 1860 South Mulford Road  
	Rockford IL 61108
GEO:42.2475284;-88.9984363
END:VEVENT
END:VCALENDAR