BEGIN:VCALENDAR
VERSION:2.0
PRODID:-//Tukios.com/
BEGIN:VEVENT
UID:98f4903f-3cd3-4bad-a197-dc20e36f97d9@www.fitzgeraldfh.com
DTSTAMP:20260423T034457Z
DTSTART:20260423T153000Z
DTEND:20260423T163000Z
SUMMARY:Graveside Service
DESCRIPTION:
URL:https://www.fitzgeraldfh.com/obituaries/anthony-vargas-aguilar
LOCATION: 6202 Charles Street  Rockford IL 61108
GEO:42.2460418;-88.995821
END:VEVENT
END:VCALENDAR