BEGIN:VCALENDAR
VERSION:2.0
PRODID:-//Tukios.com/
BEGIN:VEVENT
UID:e8a917d9-548c-41a1-82e5-8dfcb23b6628@www.fitzgeraldfh.com
DTSTAMP:20260421T191449Z
DTSTART:20260426T190000Z
DTEND:20260426T220000Z
SUMMARY:Visitation
DESCRIPTION:
URL:https://www.fitzgeraldfh.com/obituaries/david-solverson
LOCATION:Fitzgerald Funeral Home and Crematory, Mulford Chapel 1860 South 
	Mulford Road  Rockford IL 61108
GEO:42.2475284;-88.9984363
END:VEVENT
END:VCALENDAR