BEGIN:VCALENDAR
VERSION:2.0
PRODID:-//Tukios.com/
BEGIN:VEVENT
UID:3369f16f-7784-4840-8bae-f8ed069f73d9@www.fitzgeraldfh.com
DTSTAMP:20260421T001855Z
DTSTART:20260515T150000Z
DTEND:20260515T160000Z
SUMMARY:Visitation
DESCRIPTION:
URL:https://www.fitzgeraldfh.com/obituaries/ronald-lentz
LOCATION:St. Rita Catholic Church 6254 Valley Knoll Drive  Rockford IL 
	61109
GEO:42.2356354;-88.9952979
END:VEVENT
END:VCALENDAR