BEGIN:VCALENDAR
VERSION:2.0
PRODID:-//Tukios.com/
BEGIN:VEVENT
UID:26947acd-2eec-4657-abde-6c547556d0eb@www.fitzgeraldfh.com
DTSTAMP:20260421T002007Z
DTSTART:20260515T160000Z
DTEND:20260515T170000Z
SUMMARY:Mass
DESCRIPTION:
URL:https://www.fitzgeraldfh.com/obituaries/ronald-lentz
LOCATION:St. Rita Catholic Church 6254 Valley Knoll Drive  Rockford IL 
	61109
GEO:42.2356354;-88.9952979
END:VEVENT
END:VCALENDAR