BEGIN:VCALENDAR
VERSION:2.0
PRODID:-//Tukios.com/
BEGIN:VEVENT
UID:7246a375-0014-45c8-935a-496206c9d7e2@www.fitzgeraldfh.com
DTSTAMP:20260424T155844Z
DTSTART:20260429T150000Z
DTEND:20260429T160000Z
SUMMARY:Visitation
DESCRIPTION:
URL:https://www.fitzgeraldfh.com/obituaries/roy-fiorello-iii
LOCATION:St. Rita Catholic Church 6254 Valley Knoll Drive  Rockford IL 
	61109
GEO:42.2356354;-88.9952979
END:VEVENT
END:VCALENDAR