BEGIN:VCALENDAR
VERSION:2.0
PRODID:-//Tukios.com/
BEGIN:VEVENT
UID:e5750df7-e693-4400-8a4c-ab3dc81e0269@www.fitzgeraldfh.com
DTSTAMP:20260424T160046Z
DTSTART:20260429T160000Z
DTEND:20260429T164500Z
SUMMARY:Mass
DESCRIPTION:
URL:https://www.fitzgeraldfh.com/obituaries/roy-fiorello-iii
LOCATION: 6254 Valley Knoll Drive  Rockford IL 61109
GEO:42.2356354;-88.9952979
END:VEVENT
END:VCALENDAR