BEGIN:VCALENDAR
VERSION:2.0
PRODID:-//Tukios.com/
BEGIN:VEVENT
UID:21e35829-37ba-4dcb-934c-0136a09da158@www.fitzgeraldfh.com
DTSTAMP:20260424T155053Z
DTSTART:20260429T173000Z
DTEND:20260429T180000Z
SUMMARY:Burial
DESCRIPTION:
URL:https://www.fitzgeraldfh.com/obituaries/roy-fiorello-iii
LOCATION: 8616 W. State Road  Winnebago IL 61088
GEO:42.278498;-89.2068932
END:VEVENT
END:VCALENDAR