BEGIN:VCALENDAR
VERSION:2.0
PRODID:-//Tukios.com/
BEGIN:VEVENT
UID:9b7a1d97-5230-449b-af36-752079e2a2fe@www.fitzgeraldfh.com
DTSTAMP:20260421T192003Z
DTSTART:20260423T170000Z
DTEND:20260423T180000Z
SUMMARY:Visitation
DESCRIPTION:
URL:https://www.fitzgeraldfh.com/obituaries/steven-hilton-sr
LOCATION:Fitzgerald Funeral Home & Crematory, Riverside Chapel 3910 North 
	Rockton Avenue  Rockford IL 61103
GEO:42.3160998;-89.0973939
END:VEVENT
END:VCALENDAR